BEGIN:VCALENDAR
VERSION:2.0
PRODID:-//Westchester Bible Church - ECPv6.15.17.1//NONSGML v1.0//EN
CALSCALE:GREGORIAN
METHOD:PUBLISH
X-WR-CALNAME:Westchester Bible Church
X-ORIGINAL-URL:https://westchesterbiblechurch.org
X-WR-CALDESC:Events for Westchester Bible Church
REFRESH-INTERVAL;VALUE=DURATION:PT1H
X-Robots-Tag:noindex
X-PUBLISHED-TTL:PT1H
BEGIN:VTIMEZONE
TZID:America/Chicago
BEGIN:DAYLIGHT
TZOFFSETFROM:-0600
TZOFFSETTO:-0500
TZNAME:CDT
DTSTART:20250309T080000
END:DAYLIGHT
BEGIN:STANDARD
TZOFFSETFROM:-0500
TZOFFSETTO:-0600
TZNAME:CST
DTSTART:20251102T070000
END:STANDARD
BEGIN:DAYLIGHT
TZOFFSETFROM:-0600
TZOFFSETTO:-0500
TZNAME:CDT
DTSTART:20260308T080000
END:DAYLIGHT
BEGIN:STANDARD
TZOFFSETFROM:-0500
TZOFFSETTO:-0600
TZNAME:CST
DTSTART:20261101T070000
END:STANDARD
BEGIN:DAYLIGHT
TZOFFSETFROM:-0600
TZOFFSETTO:-0500
TZNAME:CDT
DTSTART:20270314T080000
END:DAYLIGHT
BEGIN:STANDARD
TZOFFSETFROM:-0500
TZOFFSETTO:-0600
TZNAME:CST
DTSTART:20271107T070000
END:STANDARD
END:VTIMEZONE
BEGIN:VEVENT
DTSTART;TZID=America/Chicago:20260508T183000
DTEND;TZID=America/Chicago:20260508T200000
DTSTAMP:20260422T070043
CREATED:20250730T064453Z
LAST-MODIFIED:20260415T025311Z
UID:3119-1778265000-1778270400@westchesterbiblechurch.org
SUMMARY:Family Foundations
DESCRIPTION:Family Foundations \n\nDates: 2nd Friday of every month (Sept – May)\nTime: 6:30 – 8:00 PM\n\nA free night for the whole family!\nCost: FREE\nADULTS will hear biblical\, practical teaching on topics like parenting\, marriage\, finances\, communication\, conflict resolution\, and more.  There will also be a time for Q & A and fellowship!\nKIDS will enjoy games\, activities\, and Bible lessons that reinforce foundational values in fun and memorable ways.\nREGISTER YOUR FAMILYJoin us for a free dinner 5:30 – 6:30 PM\nSIGN UP FOR DINNER – MAY 8THInteractive sessions will be available for:\n• Nursery (ages 0-4 years)\n• Kids\n• Teens & Pre-teens\n• Adults\nIf you have any questions\, please contact the office at 708.562.3040 or office@westchesterbiblechurch.org \nFamily Foundations is a new ministry for the purpose of serving and strengthening families with practical biblical teaching in a fun environment for every member of your household.  Our goal is to provide tangible value to your family through monthly gatherings where adults will address real-life family and personal challenges; kids will be engaged in Bible lessons\, activities\, and games.\nADULT SEMINARS\nSEPTEMBER – The Foundation of Strong Families\nOCTOBER – Communication that Builds Up\nNOVEMBER – Parenting with Purpose\nDECEMBER – Financial Wisdom for Families\nJANUARY – Navigating Conflicts with Grace\nFEBRUARY – Investing in Your Marriage\nMARCH – Managing Your Time Wisely\nAPRIL – Having Healthy Friendships\nMAY – Pizza and Carnival Night!
URL:https://westchesterbiblechurch.org/event/family-foundations
LOCATION:Westchester Bible Church\, 10600 W Cermak Rd.\, Westchester\, IL\, 60154\, United States
CATEGORIES:Children,family,Fellowship,men,Students,women
ATTACH;FMTTYPE=image/jpeg:https://westchesterbiblechurch.org/wp-content/uploads/2025/07/Family-Foundations-1920-x-1080.jpg
ORGANIZER;CN="Westchester Bible Church":MAILTO:office@westchesterbiblechurch.org
END:VEVENT
END:VCALENDAR